BEGIN:VCALENDAR
VERSION:2.0
PRODID:-//Hospice Georgian Triangle - ECPv6.15.20//NONSGML v1.0//EN
CALSCALE:GREGORIAN
METHOD:PUBLISH
X-ORIGINAL-URL:https://hospicegeorgiantriangle.com
X-WR-CALDESC:Events for Hospice Georgian Triangle
REFRESH-INTERVAL;VALUE=DURATION:PT1H
X-Robots-Tag:noindex
X-PUBLISHED-TTL:PT1H
BEGIN:VTIMEZONE
TZID:America/Toronto
BEGIN:DAYLIGHT
TZOFFSETFROM:-0500
TZOFFSETTO:-0400
TZNAME:EDT
DTSTART:20230312T070000
END:DAYLIGHT
BEGIN:STANDARD
TZOFFSETFROM:-0400
TZOFFSETTO:-0500
TZNAME:EST
DTSTART:20231105T060000
END:STANDARD
BEGIN:DAYLIGHT
TZOFFSETFROM:-0500
TZOFFSETTO:-0400
TZNAME:EDT
DTSTART:20240310T070000
END:DAYLIGHT
BEGIN:STANDARD
TZOFFSETFROM:-0400
TZOFFSETTO:-0500
TZNAME:EST
DTSTART:20241103T060000
END:STANDARD
BEGIN:DAYLIGHT
TZOFFSETFROM:-0500
TZOFFSETTO:-0400
TZNAME:EDT
DTSTART:20250309T070000
END:DAYLIGHT
BEGIN:STANDARD
TZOFFSETFROM:-0400
TZOFFSETTO:-0500
TZNAME:EST
DTSTART:20251102T060000
END:STANDARD
BEGIN:DAYLIGHT
TZOFFSETFROM:-0500
TZOFFSETTO:-0400
TZNAME:EDT
DTSTART:20260308T070000
END:DAYLIGHT
BEGIN:STANDARD
TZOFFSETFROM:-0400
TZOFFSETTO:-0500
TZNAME:EST
DTSTART:20261101T060000
END:STANDARD
BEGIN:DAYLIGHT
TZOFFSETFROM:-0500
TZOFFSETTO:-0400
TZNAME:EDT
DTSTART:20270314T070000
END:DAYLIGHT
BEGIN:STANDARD
TZOFFSETFROM:-0400
TZOFFSETTO:-0500
TZNAME:EST
DTSTART:20271107T060000
END:STANDARD
END:VTIMEZONE
BEGIN:VEVENT
DTSTART;TZID=America/Toronto:20260212T100000
DTEND;TZID=America/Toronto:20260212T113000
DTSTAMP:20260422T050902
CREATED:20260128T175903Z
LAST-MODIFIED:20260128T175903Z
UID:10001741-1770890400-1770895800@hospicegeorgiantriangle.com
SUMMARY:Grieving Hearts Workshop
DESCRIPTION:Join us for this Grieving Hearts workshop to create a Life Certificate to honour your loved one and explore ways to maintain your connection in grief. \nA workshop to foster remembrance and connection to your loved one. \nRegistration is required.  \nRSVP@HospiceGT.com \n705-444-2555 ext. 7512 \nwww.HospiceGeorgianTriangle.com
URL:https://hospicegeorgiantriangle.com/event/grieving-hearts-workshop/
LOCATION:Hospice Georgian Triangle Foundation Office\, 186 Hurontario st\, Collingwood\, Ontario\, Canada
CATEGORIES:Support Groups
ATTACH;FMTTYPE=image/png:https://hospicegeorgiantriangle.com/wp-content/uploads/2026/01/Grieving-Hearts-workshop-poster.png
END:VEVENT
BEGIN:VEVENT
DTSTART;TZID=America/Toronto:20250128T130000
DTEND;TZID=America/Toronto:20250128T143000
DTSTAMP:20260422T050902
CREATED:20250115T164121Z
LAST-MODIFIED:20250115T164121Z
UID:10000335-1738069200-1738074600@hospicegeorgiantriangle.com
SUMMARY:Substance-related death grief group
DESCRIPTION:Have you lost a loved one to a substance-related death? If so\, a grief support group run by Hospice Georgian Triangle may help.\nThis free\, special six-week group session runs from 1:00 pm to 2:30 pm and offers a safe space for anyone who would like to connect with others going through a similar journey and would also benefit from receiving some emotional support.\nIt begins on Tuesday\, Jan. 28 at Hospice Georgian Triangle\, 186 Hurontario St.\, Collingwood.
URL:https://hospicegeorgiantriangle.com/event/substance-related-death-grief-group/
LOCATION:Hospice Georgian Triangle Foundation Office\, 186 Hurontario st\, Collingwood\, Ontario\, Canada
CATEGORIES:Support Groups
END:VEVENT
BEGIN:VEVENT
DTSTART;TZID=America/Toronto:20241213T100000
DTEND;TZID=America/Toronto:20241213T113000
DTSTAMP:20260422T050902
CREATED:20241204T163747Z
LAST-MODIFIED:20241204T163820Z
UID:10000320-1734084000-1734089400@hospicegeorgiantriangle.com
SUMMARY:Holiday Drop-in Bereavement Group
DESCRIPTION:The holiday season can be challenging when you are grieving. This drop-in group is focused on navigating the holiday season after a loss.  \nLight refreshments will be provided
URL:https://hospicegeorgiantriangle.com/event/holiday-drop-in-bereavement-group-2/
LOCATION:Hospice Georgian Triangle Foundation Office\, 186 Hurontario st\, Collingwood\, Ontario\, Canada
CATEGORIES:Support Groups
ATTACH;FMTTYPE=image/png:https://hospicegeorgiantriangle.com/wp-content/uploads/2024/12/White-Classy-Holiday-Schedule-Instagram-Post.png
END:VEVENT
END:VCALENDAR