BEGIN:VCALENDAR
VERSION:2.0
PRODID:-//Hospice Georgian Triangle - ECPv6.15.20//NONSGML v1.0//EN
CALSCALE:GREGORIAN
METHOD:PUBLISH
X-WR-CALNAME:Hospice Georgian Triangle
X-ORIGINAL-URL:https://hospicegeorgiantriangle.com
X-WR-CALDESC:Events for Hospice Georgian Triangle
REFRESH-INTERVAL;VALUE=DURATION:PT1H
X-Robots-Tag:noindex
X-PUBLISHED-TTL:PT1H
BEGIN:VTIMEZONE
TZID:America/Toronto
BEGIN:DAYLIGHT
TZOFFSETFROM:-0500
TZOFFSETTO:-0400
TZNAME:EDT
DTSTART:20250309T070000
END:DAYLIGHT
BEGIN:STANDARD
TZOFFSETFROM:-0400
TZOFFSETTO:-0500
TZNAME:EST
DTSTART:20251102T060000
END:STANDARD
BEGIN:DAYLIGHT
TZOFFSETFROM:-0500
TZOFFSETTO:-0400
TZNAME:EDT
DTSTART:20260308T070000
END:DAYLIGHT
BEGIN:STANDARD
TZOFFSETFROM:-0400
TZOFFSETTO:-0500
TZNAME:EST
DTSTART:20261101T060000
END:STANDARD
BEGIN:DAYLIGHT
TZOFFSETFROM:-0500
TZOFFSETTO:-0400
TZNAME:EDT
DTSTART:20270314T070000
END:DAYLIGHT
BEGIN:STANDARD
TZOFFSETFROM:-0400
TZOFFSETTO:-0500
TZNAME:EST
DTSTART:20271107T060000
END:STANDARD
END:VTIMEZONE
BEGIN:VEVENT
DTSTART;TZID=America/Toronto:20260624T130000
DTEND;TZID=America/Toronto:20260624T140000
DTSTAMP:20260425T164214
CREATED:20251112T171922Z
LAST-MODIFIED:20251112T180951Z
UID:10001673-1782306000-1782309600@hospicegeorgiantriangle.com
SUMMARY:Life After Loss
DESCRIPTION:This group is for anyone who has experienced the loss of an infant or pregnancy.  This support group meets monthly to connect with others\, explore grief\, coping strategies\, and feel supported.  This group is facilitated in collaboration with staff from Hospice\, CGMH\, and the Well Baby Clinic.  This group meets on the 4th Wednesday of each month at 1 pm at Campbell House.  \nFor more information\, please contact Lisbeth at nielsenl@hospicegt.com or 705-444-2555 ext. 7512.
URL:https://hospicegeorgiantriangle.com/event/life-after-loss/2026-06-24/
LOCATION:Campbell House\, 240 Erie Street\, Collingwood\, ON\, L9Y 0X8\, Canada
ATTACH;FMTTYPE=image/png:https://hospicegeorgiantriangle.com/wp-content/uploads/2025/11/Infant-Loss-Support-Group-poster.png
END:VEVENT
END:VCALENDAR