BEGIN:VCALENDAR
VERSION:2.0
PRODID:-//Hospice Georgian Triangle - ECPv6.15.20//NONSGML v1.0//EN
CALSCALE:GREGORIAN
METHOD:PUBLISH
X-ORIGINAL-URL:https://hospicegeorgiantriangle.com
X-WR-CALDESC:Events for Hospice Georgian Triangle
REFRESH-INTERVAL;VALUE=DURATION:PT1H
X-Robots-Tag:noindex
X-PUBLISHED-TTL:PT1H
BEGIN:VTIMEZONE
TZID:America/Toronto
BEGIN:DAYLIGHT
TZOFFSETFROM:-0500
TZOFFSETTO:-0400
TZNAME:EDT
DTSTART:20250309T070000
END:DAYLIGHT
BEGIN:STANDARD
TZOFFSETFROM:-0400
TZOFFSETTO:-0500
TZNAME:EST
DTSTART:20251102T060000
END:STANDARD
BEGIN:DAYLIGHT
TZOFFSETFROM:-0500
TZOFFSETTO:-0400
TZNAME:EDT
DTSTART:20260308T070000
END:DAYLIGHT
BEGIN:STANDARD
TZOFFSETFROM:-0400
TZOFFSETTO:-0500
TZNAME:EST
DTSTART:20261101T060000
END:STANDARD
BEGIN:DAYLIGHT
TZOFFSETFROM:-0500
TZOFFSETTO:-0400
TZNAME:EDT
DTSTART:20270314T070000
END:DAYLIGHT
BEGIN:STANDARD
TZOFFSETFROM:-0400
TZOFFSETTO:-0500
TZNAME:EST
DTSTART:20271107T060000
END:STANDARD
BEGIN:DAYLIGHT
TZOFFSETFROM:-0500
TZOFFSETTO:-0400
TZNAME:EDT
DTSTART:20280312T070000
END:DAYLIGHT
BEGIN:STANDARD
TZOFFSETFROM:-0400
TZOFFSETTO:-0500
TZNAME:EST
DTSTART:20281105T060000
END:STANDARD
END:VTIMEZONE
BEGIN:VEVENT
DTSTART;TZID=America/Toronto:20261013T100000
DTEND;TZID=America/Toronto:20261013T110000
DTSTAMP:20260424T043609
CREATED:20250602T162622Z
LAST-MODIFIED:20250613T135911Z
UID:10000788-1791885600-1791889200@hospicegeorgiantriangle.com
SUMMARY:Grief Support Group over Coffee
DESCRIPTION:Hospice Georgian Triangle offers a grief support group over coffee. \nThis casual group is open to anyone interested in connecting with others while enjoying a coffee every Tuesday morning from 10 to 11:00 a.m. (not including statutory holidays). \nThere is no need to register—just show up! \nFor more info\, Contact Vanessa at voorbergv@hospicegeorgiantriangle.com or 705-444-2555 ext 7524.
URL:https://hospicegeorgiantriangle.com/event/grief-support-group-over-coffee-4/2026-10-13/
LOCATION:Campbell House\, 240 Erie Street\, Collingwood\, ON\, L9Y 0X8\, Canada
CATEGORIES:Support Groups
END:VEVENT
BEGIN:VEVENT
DTSTART;TZID=America/Toronto:20261020T100000
DTEND;TZID=America/Toronto:20261020T110000
DTSTAMP:20260424T043609
CREATED:20250602T162622Z
LAST-MODIFIED:20250613T135911Z
UID:10000789-1792490400-1792494000@hospicegeorgiantriangle.com
SUMMARY:Grief Support Group over Coffee
DESCRIPTION:Hospice Georgian Triangle offers a grief support group over coffee. \nThis casual group is open to anyone interested in connecting with others while enjoying a coffee every Tuesday morning from 10 to 11:00 a.m. (not including statutory holidays). \nThere is no need to register—just show up! \nFor more info\, Contact Vanessa at voorbergv@hospicegeorgiantriangle.com or 705-444-2555 ext 7524.
URL:https://hospicegeorgiantriangle.com/event/grief-support-group-over-coffee-4/2026-10-20/
LOCATION:Campbell House\, 240 Erie Street\, Collingwood\, ON\, L9Y 0X8\, Canada
CATEGORIES:Support Groups
END:VEVENT
BEGIN:VEVENT
DTSTART;TZID=America/Toronto:20261027T100000
DTEND;TZID=America/Toronto:20261027T110000
DTSTAMP:20260424T043609
CREATED:20250602T162622Z
LAST-MODIFIED:20250613T135911Z
UID:10000790-1793095200-1793098800@hospicegeorgiantriangle.com
SUMMARY:Grief Support Group over Coffee
DESCRIPTION:Hospice Georgian Triangle offers a grief support group over coffee. \nThis casual group is open to anyone interested in connecting with others while enjoying a coffee every Tuesday morning from 10 to 11:00 a.m. (not including statutory holidays). \nThere is no need to register—just show up! \nFor more info\, Contact Vanessa at voorbergv@hospicegeorgiantriangle.com or 705-444-2555 ext 7524.
URL:https://hospicegeorgiantriangle.com/event/grief-support-group-over-coffee-4/2026-10-27/
LOCATION:Campbell House\, 240 Erie Street\, Collingwood\, ON\, L9Y 0X8\, Canada
CATEGORIES:Support Groups
END:VEVENT
BEGIN:VEVENT
DTSTART;TZID=America/Toronto:20261103T100000
DTEND;TZID=America/Toronto:20261103T110000
DTSTAMP:20260424T043609
CREATED:20250602T162622Z
LAST-MODIFIED:20250613T135911Z
UID:10000791-1793700000-1793703600@hospicegeorgiantriangle.com
SUMMARY:Grief Support Group over Coffee
DESCRIPTION:Hospice Georgian Triangle offers a grief support group over coffee. \nThis casual group is open to anyone interested in connecting with others while enjoying a coffee every Tuesday morning from 10 to 11:00 a.m. (not including statutory holidays). \nThere is no need to register—just show up! \nFor more info\, Contact Vanessa at voorbergv@hospicegeorgiantriangle.com or 705-444-2555 ext 7524.
URL:https://hospicegeorgiantriangle.com/event/grief-support-group-over-coffee-4/2026-11-03/
LOCATION:Campbell House\, 240 Erie Street\, Collingwood\, ON\, L9Y 0X8\, Canada
CATEGORIES:Support Groups
END:VEVENT
BEGIN:VEVENT
DTSTART;TZID=America/Toronto:20261110T100000
DTEND;TZID=America/Toronto:20261110T110000
DTSTAMP:20260424T043609
CREATED:20250602T162622Z
LAST-MODIFIED:20250613T135911Z
UID:10000792-1794304800-1794308400@hospicegeorgiantriangle.com
SUMMARY:Grief Support Group over Coffee
DESCRIPTION:Hospice Georgian Triangle offers a grief support group over coffee. \nThis casual group is open to anyone interested in connecting with others while enjoying a coffee every Tuesday morning from 10 to 11:00 a.m. (not including statutory holidays). \nThere is no need to register—just show up! \nFor more info\, Contact Vanessa at voorbergv@hospicegeorgiantriangle.com or 705-444-2555 ext 7524.
URL:https://hospicegeorgiantriangle.com/event/grief-support-group-over-coffee-4/2026-11-10/
LOCATION:Campbell House\, 240 Erie Street\, Collingwood\, ON\, L9Y 0X8\, Canada
CATEGORIES:Support Groups
END:VEVENT
BEGIN:VEVENT
DTSTART;TZID=America/Toronto:20261117T100000
DTEND;TZID=America/Toronto:20261117T110000
DTSTAMP:20260424T043609
CREATED:20250602T162622Z
LAST-MODIFIED:20250613T135911Z
UID:10000793-1794909600-1794913200@hospicegeorgiantriangle.com
SUMMARY:Grief Support Group over Coffee
DESCRIPTION:Hospice Georgian Triangle offers a grief support group over coffee. \nThis casual group is open to anyone interested in connecting with others while enjoying a coffee every Tuesday morning from 10 to 11:00 a.m. (not including statutory holidays). \nThere is no need to register—just show up! \nFor more info\, Contact Vanessa at voorbergv@hospicegeorgiantriangle.com or 705-444-2555 ext 7524.
URL:https://hospicegeorgiantriangle.com/event/grief-support-group-over-coffee-4/2026-11-17/
LOCATION:Campbell House\, 240 Erie Street\, Collingwood\, ON\, L9Y 0X8\, Canada
CATEGORIES:Support Groups
END:VEVENT
BEGIN:VEVENT
DTSTART;TZID=America/Toronto:20261124T100000
DTEND;TZID=America/Toronto:20261124T110000
DTSTAMP:20260424T043609
CREATED:20250602T162622Z
LAST-MODIFIED:20250613T135911Z
UID:10000794-1795514400-1795518000@hospicegeorgiantriangle.com
SUMMARY:Grief Support Group over Coffee
DESCRIPTION:Hospice Georgian Triangle offers a grief support group over coffee. \nThis casual group is open to anyone interested in connecting with others while enjoying a coffee every Tuesday morning from 10 to 11:00 a.m. (not including statutory holidays). \nThere is no need to register—just show up! \nFor more info\, Contact Vanessa at voorbergv@hospicegeorgiantriangle.com or 705-444-2555 ext 7524.
URL:https://hospicegeorgiantriangle.com/event/grief-support-group-over-coffee-4/2026-11-24/
LOCATION:Campbell House\, 240 Erie Street\, Collingwood\, ON\, L9Y 0X8\, Canada
CATEGORIES:Support Groups
END:VEVENT
BEGIN:VEVENT
DTSTART;TZID=America/Toronto:20261201T100000
DTEND;TZID=America/Toronto:20261201T110000
DTSTAMP:20260424T043609
CREATED:20250602T162622Z
LAST-MODIFIED:20250613T135911Z
UID:10000795-1796119200-1796122800@hospicegeorgiantriangle.com
SUMMARY:Grief Support Group over Coffee
DESCRIPTION:Hospice Georgian Triangle offers a grief support group over coffee. \nThis casual group is open to anyone interested in connecting with others while enjoying a coffee every Tuesday morning from 10 to 11:00 a.m. (not including statutory holidays). \nThere is no need to register—just show up! \nFor more info\, Contact Vanessa at voorbergv@hospicegeorgiantriangle.com or 705-444-2555 ext 7524.
URL:https://hospicegeorgiantriangle.com/event/grief-support-group-over-coffee-4/2026-12-01/
LOCATION:Campbell House\, 240 Erie Street\, Collingwood\, ON\, L9Y 0X8\, Canada
CATEGORIES:Support Groups
END:VEVENT
BEGIN:VEVENT
DTSTART;TZID=America/Toronto:20261208T100000
DTEND;TZID=America/Toronto:20261208T110000
DTSTAMP:20260424T043609
CREATED:20250602T162622Z
LAST-MODIFIED:20250613T135911Z
UID:10000796-1796724000-1796727600@hospicegeorgiantriangle.com
SUMMARY:Grief Support Group over Coffee
DESCRIPTION:Hospice Georgian Triangle offers a grief support group over coffee. \nThis casual group is open to anyone interested in connecting with others while enjoying a coffee every Tuesday morning from 10 to 11:00 a.m. (not including statutory holidays). \nThere is no need to register—just show up! \nFor more info\, Contact Vanessa at voorbergv@hospicegeorgiantriangle.com or 705-444-2555 ext 7524.
URL:https://hospicegeorgiantriangle.com/event/grief-support-group-over-coffee-4/2026-12-08/
LOCATION:Campbell House\, 240 Erie Street\, Collingwood\, ON\, L9Y 0X8\, Canada
CATEGORIES:Support Groups
END:VEVENT
BEGIN:VEVENT
DTSTART;TZID=America/Toronto:20261215T100000
DTEND;TZID=America/Toronto:20261215T110000
DTSTAMP:20260424T043609
CREATED:20250602T162622Z
LAST-MODIFIED:20250613T135911Z
UID:10000797-1797328800-1797332400@hospicegeorgiantriangle.com
SUMMARY:Grief Support Group over Coffee
DESCRIPTION:Hospice Georgian Triangle offers a grief support group over coffee. \nThis casual group is open to anyone interested in connecting with others while enjoying a coffee every Tuesday morning from 10 to 11:00 a.m. (not including statutory holidays). \nThere is no need to register—just show up! \nFor more info\, Contact Vanessa at voorbergv@hospicegeorgiantriangle.com or 705-444-2555 ext 7524.
URL:https://hospicegeorgiantriangle.com/event/grief-support-group-over-coffee-4/2026-12-15/
LOCATION:Campbell House\, 240 Erie Street\, Collingwood\, ON\, L9Y 0X8\, Canada
CATEGORIES:Support Groups
END:VEVENT
BEGIN:VEVENT
DTSTART;TZID=America/Toronto:20261222T100000
DTEND;TZID=America/Toronto:20261222T110000
DTSTAMP:20260424T043609
CREATED:20250602T162622Z
LAST-MODIFIED:20250613T135911Z
UID:10000798-1797933600-1797937200@hospicegeorgiantriangle.com
SUMMARY:Grief Support Group over Coffee
DESCRIPTION:Hospice Georgian Triangle offers a grief support group over coffee. \nThis casual group is open to anyone interested in connecting with others while enjoying a coffee every Tuesday morning from 10 to 11:00 a.m. (not including statutory holidays). \nThere is no need to register—just show up! \nFor more info\, Contact Vanessa at voorbergv@hospicegeorgiantriangle.com or 705-444-2555 ext 7524.
URL:https://hospicegeorgiantriangle.com/event/grief-support-group-over-coffee-4/2026-12-22/
LOCATION:Campbell House\, 240 Erie Street\, Collingwood\, ON\, L9Y 0X8\, Canada
CATEGORIES:Support Groups
END:VEVENT
BEGIN:VEVENT
DTSTART;TZID=America/Toronto:20261229T100000
DTEND;TZID=America/Toronto:20261229T110000
DTSTAMP:20260424T043609
CREATED:20250602T162622Z
LAST-MODIFIED:20250613T135911Z
UID:10000799-1798538400-1798542000@hospicegeorgiantriangle.com
SUMMARY:Grief Support Group over Coffee
DESCRIPTION:Hospice Georgian Triangle offers a grief support group over coffee. \nThis casual group is open to anyone interested in connecting with others while enjoying a coffee every Tuesday morning from 10 to 11:00 a.m. (not including statutory holidays). \nThere is no need to register—just show up! \nFor more info\, Contact Vanessa at voorbergv@hospicegeorgiantriangle.com or 705-444-2555 ext 7524.
URL:https://hospicegeorgiantriangle.com/event/grief-support-group-over-coffee-4/2026-12-29/
LOCATION:Campbell House\, 240 Erie Street\, Collingwood\, ON\, L9Y 0X8\, Canada
CATEGORIES:Support Groups
END:VEVENT
BEGIN:VEVENT
DTSTART;TZID=America/Toronto:20270105T100000
DTEND;TZID=America/Toronto:20270105T110000
DTSTAMP:20260424T043609
CREATED:20250602T162622Z
LAST-MODIFIED:20250613T135911Z
UID:10000800-1799143200-1799146800@hospicegeorgiantriangle.com
SUMMARY:Grief Support Group over Coffee
DESCRIPTION:Hospice Georgian Triangle offers a grief support group over coffee. \nThis casual group is open to anyone interested in connecting with others while enjoying a coffee every Tuesday morning from 10 to 11:00 a.m. (not including statutory holidays). \nThere is no need to register—just show up! \nFor more info\, Contact Vanessa at voorbergv@hospicegeorgiantriangle.com or 705-444-2555 ext 7524.
URL:https://hospicegeorgiantriangle.com/event/grief-support-group-over-coffee-4/2027-01-05/
LOCATION:Campbell House\, 240 Erie Street\, Collingwood\, ON\, L9Y 0X8\, Canada
CATEGORIES:Support Groups
END:VEVENT
BEGIN:VEVENT
DTSTART;TZID=America/Toronto:20270112T100000
DTEND;TZID=America/Toronto:20270112T110000
DTSTAMP:20260424T043609
CREATED:20250602T162622Z
LAST-MODIFIED:20250613T135911Z
UID:10000801-1799748000-1799751600@hospicegeorgiantriangle.com
SUMMARY:Grief Support Group over Coffee
DESCRIPTION:Hospice Georgian Triangle offers a grief support group over coffee. \nThis casual group is open to anyone interested in connecting with others while enjoying a coffee every Tuesday morning from 10 to 11:00 a.m. (not including statutory holidays). \nThere is no need to register—just show up! \nFor more info\, Contact Vanessa at voorbergv@hospicegeorgiantriangle.com or 705-444-2555 ext 7524.
URL:https://hospicegeorgiantriangle.com/event/grief-support-group-over-coffee-4/2027-01-12/
LOCATION:Campbell House\, 240 Erie Street\, Collingwood\, ON\, L9Y 0X8\, Canada
CATEGORIES:Support Groups
END:VEVENT
BEGIN:VEVENT
DTSTART;TZID=America/Toronto:20270119T100000
DTEND;TZID=America/Toronto:20270119T110000
DTSTAMP:20260424T043609
CREATED:20250602T162622Z
LAST-MODIFIED:20250613T135911Z
UID:10000802-1800352800-1800356400@hospicegeorgiantriangle.com
SUMMARY:Grief Support Group over Coffee
DESCRIPTION:Hospice Georgian Triangle offers a grief support group over coffee. \nThis casual group is open to anyone interested in connecting with others while enjoying a coffee every Tuesday morning from 10 to 11:00 a.m. (not including statutory holidays). \nThere is no need to register—just show up! \nFor more info\, Contact Vanessa at voorbergv@hospicegeorgiantriangle.com or 705-444-2555 ext 7524.
URL:https://hospicegeorgiantriangle.com/event/grief-support-group-over-coffee-4/2027-01-19/
LOCATION:Campbell House\, 240 Erie Street\, Collingwood\, ON\, L9Y 0X8\, Canada
CATEGORIES:Support Groups
END:VEVENT
BEGIN:VEVENT
DTSTART;TZID=America/Toronto:20270126T100000
DTEND;TZID=America/Toronto:20270126T110000
DTSTAMP:20260424T043609
CREATED:20250602T162622Z
LAST-MODIFIED:20250613T135911Z
UID:10000803-1800957600-1800961200@hospicegeorgiantriangle.com
SUMMARY:Grief Support Group over Coffee
DESCRIPTION:Hospice Georgian Triangle offers a grief support group over coffee. \nThis casual group is open to anyone interested in connecting with others while enjoying a coffee every Tuesday morning from 10 to 11:00 a.m. (not including statutory holidays). \nThere is no need to register—just show up! \nFor more info\, Contact Vanessa at voorbergv@hospicegeorgiantriangle.com or 705-444-2555 ext 7524.
URL:https://hospicegeorgiantriangle.com/event/grief-support-group-over-coffee-4/2027-01-26/
LOCATION:Campbell House\, 240 Erie Street\, Collingwood\, ON\, L9Y 0X8\, Canada
CATEGORIES:Support Groups
END:VEVENT
BEGIN:VEVENT
DTSTART;TZID=America/Toronto:20270202T100000
DTEND;TZID=America/Toronto:20270202T110000
DTSTAMP:20260424T043609
CREATED:20250602T162622Z
LAST-MODIFIED:20250613T135911Z
UID:10000804-1801562400-1801566000@hospicegeorgiantriangle.com
SUMMARY:Grief Support Group over Coffee
DESCRIPTION:Hospice Georgian Triangle offers a grief support group over coffee. \nThis casual group is open to anyone interested in connecting with others while enjoying a coffee every Tuesday morning from 10 to 11:00 a.m. (not including statutory holidays). \nThere is no need to register—just show up! \nFor more info\, Contact Vanessa at voorbergv@hospicegeorgiantriangle.com or 705-444-2555 ext 7524.
URL:https://hospicegeorgiantriangle.com/event/grief-support-group-over-coffee-4/2027-02-02/
LOCATION:Campbell House\, 240 Erie Street\, Collingwood\, ON\, L9Y 0X8\, Canada
CATEGORIES:Support Groups
END:VEVENT
BEGIN:VEVENT
DTSTART;TZID=America/Toronto:20270209T100000
DTEND;TZID=America/Toronto:20270209T110000
DTSTAMP:20260424T043609
CREATED:20250602T162622Z
LAST-MODIFIED:20250613T135911Z
UID:10000805-1802167200-1802170800@hospicegeorgiantriangle.com
SUMMARY:Grief Support Group over Coffee
DESCRIPTION:Hospice Georgian Triangle offers a grief support group over coffee. \nThis casual group is open to anyone interested in connecting with others while enjoying a coffee every Tuesday morning from 10 to 11:00 a.m. (not including statutory holidays). \nThere is no need to register—just show up! \nFor more info\, Contact Vanessa at voorbergv@hospicegeorgiantriangle.com or 705-444-2555 ext 7524.
URL:https://hospicegeorgiantriangle.com/event/grief-support-group-over-coffee-4/2027-02-09/
LOCATION:Campbell House\, 240 Erie Street\, Collingwood\, ON\, L9Y 0X8\, Canada
CATEGORIES:Support Groups
END:VEVENT
BEGIN:VEVENT
DTSTART;TZID=America/Toronto:20270216T100000
DTEND;TZID=America/Toronto:20270216T110000
DTSTAMP:20260424T043609
CREATED:20250602T162622Z
LAST-MODIFIED:20250613T135911Z
UID:10000806-1802772000-1802775600@hospicegeorgiantriangle.com
SUMMARY:Grief Support Group over Coffee
DESCRIPTION:Hospice Georgian Triangle offers a grief support group over coffee. \nThis casual group is open to anyone interested in connecting with others while enjoying a coffee every Tuesday morning from 10 to 11:00 a.m. (not including statutory holidays). \nThere is no need to register—just show up! \nFor more info\, Contact Vanessa at voorbergv@hospicegeorgiantriangle.com or 705-444-2555 ext 7524.
URL:https://hospicegeorgiantriangle.com/event/grief-support-group-over-coffee-4/2027-02-16/
LOCATION:Campbell House\, 240 Erie Street\, Collingwood\, ON\, L9Y 0X8\, Canada
CATEGORIES:Support Groups
END:VEVENT
BEGIN:VEVENT
DTSTART;TZID=America/Toronto:20270223T100000
DTEND;TZID=America/Toronto:20270223T110000
DTSTAMP:20260424T043609
CREATED:20250602T162622Z
LAST-MODIFIED:20250613T135911Z
UID:10000807-1803376800-1803380400@hospicegeorgiantriangle.com
SUMMARY:Grief Support Group over Coffee
DESCRIPTION:Hospice Georgian Triangle offers a grief support group over coffee. \nThis casual group is open to anyone interested in connecting with others while enjoying a coffee every Tuesday morning from 10 to 11:00 a.m. (not including statutory holidays). \nThere is no need to register—just show up! \nFor more info\, Contact Vanessa at voorbergv@hospicegeorgiantriangle.com or 705-444-2555 ext 7524.
URL:https://hospicegeorgiantriangle.com/event/grief-support-group-over-coffee-4/2027-02-23/
LOCATION:Campbell House\, 240 Erie Street\, Collingwood\, ON\, L9Y 0X8\, Canada
CATEGORIES:Support Groups
END:VEVENT
BEGIN:VEVENT
DTSTART;TZID=America/Toronto:20270302T100000
DTEND;TZID=America/Toronto:20270302T110000
DTSTAMP:20260424T043609
CREATED:20250602T162622Z
LAST-MODIFIED:20250613T135911Z
UID:10000808-1803981600-1803985200@hospicegeorgiantriangle.com
SUMMARY:Grief Support Group over Coffee
DESCRIPTION:Hospice Georgian Triangle offers a grief support group over coffee. \nThis casual group is open to anyone interested in connecting with others while enjoying a coffee every Tuesday morning from 10 to 11:00 a.m. (not including statutory holidays). \nThere is no need to register—just show up! \nFor more info\, Contact Vanessa at voorbergv@hospicegeorgiantriangle.com or 705-444-2555 ext 7524.
URL:https://hospicegeorgiantriangle.com/event/grief-support-group-over-coffee-4/2027-03-02/
LOCATION:Campbell House\, 240 Erie Street\, Collingwood\, ON\, L9Y 0X8\, Canada
CATEGORIES:Support Groups
END:VEVENT
BEGIN:VEVENT
DTSTART;TZID=America/Toronto:20270309T100000
DTEND;TZID=America/Toronto:20270309T110000
DTSTAMP:20260424T043609
CREATED:20250602T162622Z
LAST-MODIFIED:20250613T135911Z
UID:10000809-1804586400-1804590000@hospicegeorgiantriangle.com
SUMMARY:Grief Support Group over Coffee
DESCRIPTION:Hospice Georgian Triangle offers a grief support group over coffee. \nThis casual group is open to anyone interested in connecting with others while enjoying a coffee every Tuesday morning from 10 to 11:00 a.m. (not including statutory holidays). \nThere is no need to register—just show up! \nFor more info\, Contact Vanessa at voorbergv@hospicegeorgiantriangle.com or 705-444-2555 ext 7524.
URL:https://hospicegeorgiantriangle.com/event/grief-support-group-over-coffee-4/2027-03-09/
LOCATION:Campbell House\, 240 Erie Street\, Collingwood\, ON\, L9Y 0X8\, Canada
CATEGORIES:Support Groups
END:VEVENT
BEGIN:VEVENT
DTSTART;TZID=America/Toronto:20270316T100000
DTEND;TZID=America/Toronto:20270316T110000
DTSTAMP:20260424T043609
CREATED:20250602T162622Z
LAST-MODIFIED:20250613T135911Z
UID:10000810-1805191200-1805194800@hospicegeorgiantriangle.com
SUMMARY:Grief Support Group over Coffee
DESCRIPTION:Hospice Georgian Triangle offers a grief support group over coffee. \nThis casual group is open to anyone interested in connecting with others while enjoying a coffee every Tuesday morning from 10 to 11:00 a.m. (not including statutory holidays). \nThere is no need to register—just show up! \nFor more info\, Contact Vanessa at voorbergv@hospicegeorgiantriangle.com or 705-444-2555 ext 7524.
URL:https://hospicegeorgiantriangle.com/event/grief-support-group-over-coffee-4/2027-03-16/
LOCATION:Campbell House\, 240 Erie Street\, Collingwood\, ON\, L9Y 0X8\, Canada
CATEGORIES:Support Groups
END:VEVENT
BEGIN:VEVENT
DTSTART;TZID=America/Toronto:20270323T100000
DTEND;TZID=America/Toronto:20270323T110000
DTSTAMP:20260424T043609
CREATED:20250602T162622Z
LAST-MODIFIED:20250613T135911Z
UID:10000811-1805796000-1805799600@hospicegeorgiantriangle.com
SUMMARY:Grief Support Group over Coffee
DESCRIPTION:Hospice Georgian Triangle offers a grief support group over coffee. \nThis casual group is open to anyone interested in connecting with others while enjoying a coffee every Tuesday morning from 10 to 11:00 a.m. (not including statutory holidays). \nThere is no need to register—just show up! \nFor more info\, Contact Vanessa at voorbergv@hospicegeorgiantriangle.com or 705-444-2555 ext 7524.
URL:https://hospicegeorgiantriangle.com/event/grief-support-group-over-coffee-4/2027-03-23/
LOCATION:Campbell House\, 240 Erie Street\, Collingwood\, ON\, L9Y 0X8\, Canada
CATEGORIES:Support Groups
END:VEVENT
BEGIN:VEVENT
DTSTART;TZID=America/Toronto:20270330T100000
DTEND;TZID=America/Toronto:20270330T110000
DTSTAMP:20260424T043609
CREATED:20250602T162622Z
LAST-MODIFIED:20250613T135911Z
UID:10000812-1806400800-1806404400@hospicegeorgiantriangle.com
SUMMARY:Grief Support Group over Coffee
DESCRIPTION:Hospice Georgian Triangle offers a grief support group over coffee. \nThis casual group is open to anyone interested in connecting with others while enjoying a coffee every Tuesday morning from 10 to 11:00 a.m. (not including statutory holidays). \nThere is no need to register—just show up! \nFor more info\, Contact Vanessa at voorbergv@hospicegeorgiantriangle.com or 705-444-2555 ext 7524.
URL:https://hospicegeorgiantriangle.com/event/grief-support-group-over-coffee-4/2027-03-30/
LOCATION:Campbell House\, 240 Erie Street\, Collingwood\, ON\, L9Y 0X8\, Canada
CATEGORIES:Support Groups
END:VEVENT
BEGIN:VEVENT
DTSTART;TZID=America/Toronto:20270406T100000
DTEND;TZID=America/Toronto:20270406T110000
DTSTAMP:20260424T043609
CREATED:20250602T162622Z
LAST-MODIFIED:20250613T135911Z
UID:10000813-1807005600-1807009200@hospicegeorgiantriangle.com
SUMMARY:Grief Support Group over Coffee
DESCRIPTION:Hospice Georgian Triangle offers a grief support group over coffee. \nThis casual group is open to anyone interested in connecting with others while enjoying a coffee every Tuesday morning from 10 to 11:00 a.m. (not including statutory holidays). \nThere is no need to register—just show up! \nFor more info\, Contact Vanessa at voorbergv@hospicegeorgiantriangle.com or 705-444-2555 ext 7524.
URL:https://hospicegeorgiantriangle.com/event/grief-support-group-over-coffee-4/2027-04-06/
LOCATION:Campbell House\, 240 Erie Street\, Collingwood\, ON\, L9Y 0X8\, Canada
CATEGORIES:Support Groups
END:VEVENT
BEGIN:VEVENT
DTSTART;TZID=America/Toronto:20270413T100000
DTEND;TZID=America/Toronto:20270413T110000
DTSTAMP:20260424T043609
CREATED:20250602T162622Z
LAST-MODIFIED:20250613T135911Z
UID:10000814-1807610400-1807614000@hospicegeorgiantriangle.com
SUMMARY:Grief Support Group over Coffee
DESCRIPTION:Hospice Georgian Triangle offers a grief support group over coffee. \nThis casual group is open to anyone interested in connecting with others while enjoying a coffee every Tuesday morning from 10 to 11:00 a.m. (not including statutory holidays). \nThere is no need to register—just show up! \nFor more info\, Contact Vanessa at voorbergv@hospicegeorgiantriangle.com or 705-444-2555 ext 7524.
URL:https://hospicegeorgiantriangle.com/event/grief-support-group-over-coffee-4/2027-04-13/
LOCATION:Campbell House\, 240 Erie Street\, Collingwood\, ON\, L9Y 0X8\, Canada
CATEGORIES:Support Groups
END:VEVENT
BEGIN:VEVENT
DTSTART;TZID=America/Toronto:20270420T100000
DTEND;TZID=America/Toronto:20270420T110000
DTSTAMP:20260424T043609
CREATED:20250602T162622Z
LAST-MODIFIED:20250613T135911Z
UID:10000815-1808215200-1808218800@hospicegeorgiantriangle.com
SUMMARY:Grief Support Group over Coffee
DESCRIPTION:Hospice Georgian Triangle offers a grief support group over coffee. \nThis casual group is open to anyone interested in connecting with others while enjoying a coffee every Tuesday morning from 10 to 11:00 a.m. (not including statutory holidays). \nThere is no need to register—just show up! \nFor more info\, Contact Vanessa at voorbergv@hospicegeorgiantriangle.com or 705-444-2555 ext 7524.
URL:https://hospicegeorgiantriangle.com/event/grief-support-group-over-coffee-4/2027-04-20/
LOCATION:Campbell House\, 240 Erie Street\, Collingwood\, ON\, L9Y 0X8\, Canada
CATEGORIES:Support Groups
END:VEVENT
BEGIN:VEVENT
DTSTART;TZID=America/Toronto:20270427T100000
DTEND;TZID=America/Toronto:20270427T110000
DTSTAMP:20260424T043609
CREATED:20250602T162622Z
LAST-MODIFIED:20250613T135911Z
UID:10000816-1808820000-1808823600@hospicegeorgiantriangle.com
SUMMARY:Grief Support Group over Coffee
DESCRIPTION:Hospice Georgian Triangle offers a grief support group over coffee. \nThis casual group is open to anyone interested in connecting with others while enjoying a coffee every Tuesday morning from 10 to 11:00 a.m. (not including statutory holidays). \nThere is no need to register—just show up! \nFor more info\, Contact Vanessa at voorbergv@hospicegeorgiantriangle.com or 705-444-2555 ext 7524.
URL:https://hospicegeorgiantriangle.com/event/grief-support-group-over-coffee-4/2027-04-27/
LOCATION:Campbell House\, 240 Erie Street\, Collingwood\, ON\, L9Y 0X8\, Canada
CATEGORIES:Support Groups
END:VEVENT
BEGIN:VEVENT
DTSTART;TZID=America/Toronto:20270504T100000
DTEND;TZID=America/Toronto:20270504T110000
DTSTAMP:20260424T043609
CREATED:20250602T162622Z
LAST-MODIFIED:20250613T135911Z
UID:10000817-1809424800-1809428400@hospicegeorgiantriangle.com
SUMMARY:Grief Support Group over Coffee
DESCRIPTION:Hospice Georgian Triangle offers a grief support group over coffee. \nThis casual group is open to anyone interested in connecting with others while enjoying a coffee every Tuesday morning from 10 to 11:00 a.m. (not including statutory holidays). \nThere is no need to register—just show up! \nFor more info\, Contact Vanessa at voorbergv@hospicegeorgiantriangle.com or 705-444-2555 ext 7524.
URL:https://hospicegeorgiantriangle.com/event/grief-support-group-over-coffee-4/2027-05-04/
LOCATION:Campbell House\, 240 Erie Street\, Collingwood\, ON\, L9Y 0X8\, Canada
CATEGORIES:Support Groups
END:VEVENT
END:VCALENDAR